BEGIN:VCALENDAR
VERSION:2.0
PRODID:-//3nity.com//3nity CMS//EN
BEGIN:VEVENT
SUMMARY:PALT Meeting - Servant Leaders
UID:2026-07-18-1216574@www.palestinembcdetroit.org
SEQUENCE:0
STATUS:CONFIRMED
DTSTART:20260503T130000
DTEND:20260503T140000
DTSTAMP:20161222T120000
DESCRIPTION:
URL:http://www.palestinembcdetroit.org
END:VEVENT
END:VCALENDAR
